BEGIN:VCALENDAR
VERSION:2.0
PRODID:-//www.colorcoop.it - ECPv6.15.20//NONSGML v1.0//EN
CALSCALE:GREGORIAN
METHOD:PUBLISH
X-WR-CALNAME:www.colorcoop.it
X-ORIGINAL-URL:https://www.colorcoop.it
X-WR-CALDESC:Eventi per www.colorcoop.it
REFRESH-INTERVAL;VALUE=DURATION:PT1H
X-Robots-Tag:noindex
X-PUBLISHED-TTL:PT1H
BEGIN:VTIMEZONE
TZID:Europe/Rome
BEGIN:DAYLIGHT
TZOFFSETFROM:+0100
TZOFFSETTO:+0200
TZNAME:CEST
DTSTART:20240331T010000
END:DAYLIGHT
BEGIN:STANDARD
TZOFFSETFROM:+0200
TZOFFSETTO:+0100
TZNAME:CET
DTSTART:20241027T010000
END:STANDARD
BEGIN:DAYLIGHT
TZOFFSETFROM:+0100
TZOFFSETTO:+0200
TZNAME:CEST
DTSTART:20250330T010000
END:DAYLIGHT
BEGIN:STANDARD
TZOFFSETFROM:+0200
TZOFFSETTO:+0100
TZNAME:CET
DTSTART:20251026T010000
END:STANDARD
BEGIN:DAYLIGHT
TZOFFSETFROM:+0100
TZOFFSETTO:+0200
TZNAME:CEST
DTSTART:20260329T010000
END:DAYLIGHT
BEGIN:STANDARD
TZOFFSETFROM:+0200
TZOFFSETTO:+0100
TZNAME:CET
DTSTART:20261025T010000
END:STANDARD
END:VTIMEZONE
BEGIN:VEVENT
DTSTART;TZID=Europe/Rome:20251205T102000
DTEND;TZID=Europe/Rome:20251205T112000
DTSTAMP:20260421T205656
CREATED:20251210T112858Z
LAST-MODIFIED:20251210T112911Z
UID:8338-1764930000-1764933600@www.colorcoop.it
SUMMARY:UNA CULLA PER DUE – Yoga mamma bambino
DESCRIPTION:UNA CULLA PER DUE – YOGA MAMMA BAMBINO (0-12)\n\n\nModuli di 4 incontri – Conduce Erica Trevisan\n \nVenerdì 05 Dicembre\, 10:20 -11:20 ( 3^lezione) \nIncontri di yoga mamma-bambino per concedersi uno spazio/tempo di cura e morbidezza\, in cui stare a fermarsi\, muoversi e ascoltare il proprio corpo e respiro insieme al proprio bambino. \n\n\n“Fermarsi e ascoltare il battito delle cose\, sentire il silenzio\, le sue sfumature. Fermarsi è una grande arte.”\nChandra Livia Candiani \n\n\nInfo prenotazioni: Laura 340.2700174
URL:https://www.colorcoop.it/evento/una-culla-per-due-yoga-mamma-bambino-2/
LOCATION:Via Margnan\, Bassano del Grappa. ( vicino prato S.Caterina -Parco ragazzi del 99)
CATEGORIES:BIMBI,MAMME,NEOMAMME
ATTACH;FMTTYPE=image/jpeg:https://www.colorcoop.it/wp-content/uploads/2023/11/NEO-MAMME-YOGA.jpg
END:VEVENT
BEGIN:VEVENT
DTSTART;TZID=Europe/Rome:20251212T102000
DTEND;TZID=Europe/Rome:20251212T112000
DTSTAMP:20260421T205656
CREATED:20251210T112821Z
LAST-MODIFIED:20251210T112821Z
UID:8336-1765534800-1765538400@www.colorcoop.it
SUMMARY:UNA CULLA PER DUE – Yoga mamma bambino
DESCRIPTION:UNA CULLA PER DUE – YOGA MAMMA BAMBINO (0-12)\n\n\nModuli di 4 incontri – Conduce Erica Trevisan\n \nVenerdì 12 Dicembre\, 10:20 -11:20 ( 4^lezione) \nIncontri di yoga mamma-bambino per concedersi uno spazio/tempo di cura e morbidezza\, in cui stare a fermarsi\, muoversi e ascoltare il proprio corpo e respiro insieme al proprio bambino. \n\n\n“Fermarsi e ascoltare il battito delle cose\, sentire il silenzio\, le sue sfumature. Fermarsi è una grande arte.”\nChandra Livia Candiani \n\n\nInfo prenotazioni: Laura 340.2700174
URL:https://www.colorcoop.it/evento/una-culla-per-due-yoga-mamma-bambino/
LOCATION:Via Margnan\, Bassano del Grappa. ( vicino prato S.Caterina -Parco ragazzi del 99)
CATEGORIES:BIMBI,MAMME,NEOMAMME
ATTACH;FMTTYPE=image/jpeg:https://www.colorcoop.it/wp-content/uploads/2023/11/NEO-MAMME-YOGA.jpg
END:VEVENT
BEGIN:VEVENT
DTSTART;TZID=Europe/Rome:20251217T180000
DTEND;TZID=Europe/Rome:20251217T200000
DTSTAMP:20260421T205656
CREATED:20251209T124336Z
LAST-MODIFIED:20251209T124412Z
UID:8330-1765994400-1766001600@www.colorcoop.it
SUMMARY:NATALE INSIEME 1-3 ANNI
DESCRIPTION:NATALE INSIEME 1-3 ANNI\n\n\n\n\n\nIl Natale è il momento perfetto per ritrovarsi\, condividere sorrisi e vivere la magia insieme per questo abbiamo pensato ad un evento interamente dedicato alle famiglie con bambini 1-3 anni ricco di attività per grandi e piccini: \n\nAtelier artistico;\nTra le pagine illustrate.\n\n\n  \n\nMercoledì 17 Dicembre dalle 17:45 alle 19:45 \nPresso Presso “Scuola Infanzia Pio Baggio” Marchesane \nPartecipazione gratuita su iscrizione: Laura 340.2700174
URL:https://www.colorcoop.it/evento/natale-insieme-1-3-anni/
LOCATION:Campi Polivalenti\, Campi Polivalenti\, Strada Rolandi 46\, Quartiere Marchesane\, Vicenza\, Italy
CATEGORIES:BIMBI,FESTE,GENITORI,MAMME,NEOMAMME
ATTACH;FMTTYPE=image/png:https://www.colorcoop.it/wp-content/uploads/2025/12/Natale-insieme-1-3-anni.png
ORGANIZER;CN="Color Cooperativa Sociale":MAILTO:info@colorcoop.it
END:VEVENT
END:VCALENDAR