BEGIN:VCALENDAR
VERSION:2.0
PRODID:-//www.colorcoop.it - ECPv6.15.20//NONSGML v1.0//EN
CALSCALE:GREGORIAN
METHOD:PUBLISH
X-WR-CALNAME:www.colorcoop.it
X-ORIGINAL-URL:https://www.colorcoop.it
X-WR-CALDESC:Eventi per www.colorcoop.it
REFRESH-INTERVAL;VALUE=DURATION:PT1H
X-Robots-Tag:noindex
X-PUBLISHED-TTL:PT1H
BEGIN:VTIMEZONE
TZID:Europe/Rome
BEGIN:DAYLIGHT
TZOFFSETFROM:+0100
TZOFFSETTO:+0200
TZNAME:CEST
DTSTART:20250330T010000
END:DAYLIGHT
BEGIN:STANDARD
TZOFFSETFROM:+0200
TZOFFSETTO:+0100
TZNAME:CET
DTSTART:20251026T010000
END:STANDARD
BEGIN:DAYLIGHT
TZOFFSETFROM:+0100
TZOFFSETTO:+0200
TZNAME:CEST
DTSTART:20260329T010000
END:DAYLIGHT
BEGIN:STANDARD
TZOFFSETFROM:+0200
TZOFFSETTO:+0100
TZNAME:CET
DTSTART:20261025T010000
END:STANDARD
BEGIN:DAYLIGHT
TZOFFSETFROM:+0100
TZOFFSETTO:+0200
TZNAME:CEST
DTSTART:20270328T010000
END:DAYLIGHT
BEGIN:STANDARD
TZOFFSETFROM:+0200
TZOFFSETTO:+0100
TZNAME:CET
DTSTART:20271031T010000
END:STANDARD
END:VTIMEZONE
BEGIN:VEVENT
DTSTART;TZID=Europe/Rome:20260213T102000
DTEND;TZID=Europe/Rome:20260213T112000
DTSTAMP:20260421T223253
CREATED:20260227T110120Z
LAST-MODIFIED:20260227T110120Z
UID:8390-1770978000-1770981600@www.colorcoop.it
SUMMARY:UNA CULLA PER DUE – Yoga mamma bambino
DESCRIPTION:UNA CULLA PER DUE – YOGA MAMMA BAMBINO (0-12)\n\n\nModuli di 4 incontri – Conduce Erica Trevisan\n \nVenerdì 13 Febbraio\, 10:20 -11:20 ( 1^lezione) \nIncontri di yoga mamma-bambino per concedersi uno spazio/tempo di cura e morbidezza\, in cui stare a fermarsi\, muoversi e ascoltare il proprio corpo e respiro insieme al proprio bambino. \n\n\n“Fermarsi e ascoltare il battito delle cose\, sentire il silenzio\, le sue sfumature. Fermarsi è una grande arte.”\nChandra Livia Candiani \n\n\nInfo prenotazioni: Laura 340.2700174
URL:https://www.colorcoop.it/evento/una-culla-per-due/
LOCATION:Via Margnan\, Bassano del Grappa. ( vicino prato S.Caterina -Parco ragazzi del 99)
CATEGORIES:BIMBI,MAMME,NEOMAMME
ATTACH;FMTTYPE=image/jpeg:https://www.colorcoop.it/wp-content/uploads/2023/11/NEO-MAMME-YOGA.jpg
END:VEVENT
BEGIN:VEVENT
DTSTART;TZID=Europe/Rome:20260220T102000
DTEND;TZID=Europe/Rome:20260220T112000
DTSTAMP:20260421T223253
CREATED:20260227T110216Z
LAST-MODIFIED:20260227T110228Z
UID:8392-1771582800-1771586400@www.colorcoop.it
SUMMARY:UNA CULLA PER DUE – Yoga mamma bambino
DESCRIPTION:UNA CULLA PER DUE – YOGA MAMMA BAMBINO (0-12)\n\n\nModuli di 4 incontri – Conduce Erica Trevisan\n \nVenerdì 20 Febbraio\, 10:20 -11:20 ( 2^lezione) \nIncontri di yoga mamma-bambino per concedersi uno spazio/tempo di cura e morbidezza\, in cui stare a fermarsi\, muoversi e ascoltare il proprio corpo e respiro insieme al proprio bambino. \n\n\n“Fermarsi e ascoltare il battito delle cose\, sentire il silenzio\, le sue sfumature. Fermarsi è una grande arte.”\nChandra Livia Candiani \n\n\nInfo prenotazioni: Laura 340.2700174
URL:https://www.colorcoop.it/evento/una-culla-per-due-2/
LOCATION:Via Margnan\, Bassano del Grappa. ( vicino prato S.Caterina -Parco ragazzi del 99)
CATEGORIES:BIMBI,MAMME,NEOMAMME
ATTACH;FMTTYPE=image/jpeg:https://www.colorcoop.it/wp-content/uploads/2023/11/NEO-MAMME-YOGA.jpg
END:VEVENT
BEGIN:VEVENT
DTSTART;TZID=Europe/Rome:20260221T090000
DTEND;TZID=Europe/Rome:20260221T123000
DTSTAMP:20260421T223253
CREATED:20260227T105227Z
LAST-MODIFIED:20260227T105227Z
UID:8388-1771664400-1771677000@www.colorcoop.it
SUMMARY:Laboratorio: Pappe a richiesta
DESCRIPTION:PAPPE A RICHIESTA – NEOGENITORI (0-12)\n\n\n\n\n\n\n\n\n\n\nConduce Erica Ganazzin. \nSabato 21 Febbraio\, 09.00-12.30\nPresso “Scuola Infanzia Pio Baggio” Marchesane. \nCorso teorico-pratico che si propone di dare indicazioni e rispondere alle mille domande sia a chi vorrebbe indirizzarsi verso uno svezzamento più classico\, sia a chi invece preferisce pensare ad un auto svezzamento. Si può partecipare come singoli o in coppia. \n\n\n\n\nÈ possibile portare il vostro bambino.\nInfo e prenotazioni: Laura 340.2700174
URL:https://www.colorcoop.it/evento/pappe-a-richiesta/
LOCATION:Scuola dell’Infanzia Pio Baggio\, Piazzale del Donatore\, 5\, Marchesane - Bassano del Grappa
CATEGORIES:BIMBI,Cucina,CUCINA BIMBI,GENITORI,MAMME,NEOMAMME
ATTACH;FMTTYPE=image/jpeg:https://www.colorcoop.it/wp-content/uploads/2024/10/istockphoto-918682010-612x612-1.jpg
ORGANIZER;CN="Color Cooperativa Sociale":MAILTO:info@colorcoop.it
END:VEVENT
BEGIN:VEVENT
DTSTART;TZID=Europe/Rome:20260227T102000
DTEND;TZID=Europe/Rome:20260227T112000
DTSTAMP:20260421T223253
CREATED:20260227T110314Z
LAST-MODIFIED:20260227T110314Z
UID:8394-1772187600-1772191200@www.colorcoop.it
SUMMARY:UNA CULLA PER DUE – Yoga mamma bambino
DESCRIPTION:UNA CULLA PER DUE – YOGA MAMMA BAMBINO (0-12)\n\n\nModuli di 4 incontri – Conduce Erica Trevisan\n \nVenerdì 27 Febbraio\, 10:20 -11:20 ( 3^lezione) \nIncontri di yoga mamma-bambino per concedersi uno spazio/tempo di cura e morbidezza\, in cui stare a fermarsi\, muoversi e ascoltare il proprio corpo e respiro insieme al proprio bambino. \n\n\n“Fermarsi e ascoltare il battito delle cose\, sentire il silenzio\, le sue sfumature. Fermarsi è una grande arte.”\nChandra Livia Candiani \n\n\nInfo prenotazioni: Laura 340.2700174
URL:https://www.colorcoop.it/evento/una-culla-per-due-3/
LOCATION:Via Margnan\, Bassano del Grappa. ( vicino prato S.Caterina -Parco ragazzi del 99)
CATEGORIES:BIMBI,MAMME,NEOMAMME
ATTACH;FMTTYPE=image/jpeg:https://www.colorcoop.it/wp-content/uploads/2023/11/NEO-MAMME-YOGA.jpg
END:VEVENT
BEGIN:VEVENT
DTSTART;TZID=Europe/Rome:20260306T102000
DTEND;TZID=Europe/Rome:20260306T112000
DTSTAMP:20260421T223253
CREATED:20260227T110419Z
LAST-MODIFIED:20260227T110419Z
UID:8396-1772792400-1772796000@www.colorcoop.it
SUMMARY:UNA CULLA PER DUE – Yoga mamma bambino
DESCRIPTION:UNA CULLA PER DUE – YOGA MAMMA BAMBINO (0-12)\n\n\nModuli di 4 incontri – Conduce Erica Trevisan\n \nVenerdì 06 Marzo\, 10:20 -11:20 ( 4^lezione) \nIncontri di yoga mamma-bambino per concedersi uno spazio/tempo di cura e morbidezza\, in cui stare a fermarsi\, muoversi e ascoltare il proprio corpo e respiro insieme al proprio bambino. \n\n\n“Fermarsi e ascoltare il battito delle cose\, sentire il silenzio\, le sue sfumature. Fermarsi è una grande arte.”\nChandra Livia Candiani \n\n\nInfo prenotazioni: Laura 340.2700174
URL:https://www.colorcoop.it/evento/una-culla-per-due-4/
LOCATION:Via Margnan\, Bassano del Grappa. ( vicino prato S.Caterina -Parco ragazzi del 99)
CATEGORIES:BIMBI,MAMME,NEOMAMME
ATTACH;FMTTYPE=image/jpeg:https://www.colorcoop.it/wp-content/uploads/2023/11/NEO-MAMME-YOGA.jpg
END:VEVENT
BEGIN:VEVENT
DTSTART;TZID=Europe/Rome:20260422T100000
DTEND;TZID=Europe/Rome:20260422T120000
DTSTAMP:20260421T223253
CREATED:20260421T092810Z
LAST-MODIFIED:20260421T102824Z
UID:8537-1776852000-1776859200@www.colorcoop.it
SUMMARY:Gruppi mamme\, l'esperta risponde!
DESCRIPTION:Gruppo di confronto per mamme con bimbi 0-12 mesi\n\ncondotto da dott.ssa Flavia Riccio\, psicologa di Color Cooperativa \n\nMercoledì 22 aprile 2026 – 10:00-12:00\nPresso Biblioteca Civica\, Marostica \n  \nPer info: \nLaura: 340.2700174 \ninfo@colorcoop.it
URL:https://www.colorcoop.it/evento/gruppi-mamme-lesperta-risponde/
LOCATION:Biblioteca Civica di Marostica\, Via Cairoli\, 4\, Marostica\, VI\, 36063\, Italy
CATEGORIES:BIMBI,GENITORI,MAMME,NEOMAMME
ATTACH;FMTTYPE=image/jpeg:https://www.colorcoop.it/wp-content/uploads/2026/04/d479c457-7688-435a-b65f-2daffe181130-e1776765263699.jpg
END:VEVENT
BEGIN:VEVENT
DTSTART;TZID=Europe/Rome:20260505T200000
DTEND;TZID=Europe/Rome:20260505T220000
DTSTAMP:20260421T223253
CREATED:20260421T100114Z
LAST-MODIFIED:20260421T102316Z
UID:8569-1778011200-1778018400@www.colorcoop.it
SUMMARY:È nato anche un papà
DESCRIPTION:Quando nasce un bambino\, nasce anche un papà\n\ncondotto da dott.ssa Flavia Riccio\, psicologa di Color Cooperativa \n\nMartedì 05 maggio 2026 – 20:00-22:00\nPresso Oasi del Tempo Libero\, Granella di Tezze sul Brenta \n\n\n\n\nDue incontri dedicati ai neopapà per dare spazio e voce all’ esperienza di paternità affrontando insieme anche temi specifici legati alla prima infanzia e al proprio ruolo genitoriale. \n\n\n\n  \n\nPartecipazione gratuita su iscrizione. \nPer info: \nLaura: 340.2700174
URL:https://www.colorcoop.it/evento/e-nato-anche-un-papa/
LOCATION:Centro Polivalente “Oasi del Tempo Libero” via Loss\, 17 – Granella di Tezze sul Brenta.
CATEGORIES:BIMBI,GENITORI,MAMME,NEOMAMME,PAPA'
ATTACH;FMTTYPE=image/jpeg:https://www.colorcoop.it/wp-content/uploads/2026/04/1000-GIORNI-DRG-115-2-e1776765417889.jpg
END:VEVENT
BEGIN:VEVENT
DTSTART;TZID=Europe/Rome:20260511T173000
DTEND;TZID=Europe/Rome:20260511T193000
DTSTAMP:20260421T223253
CREATED:20260421T095327Z
LAST-MODIFIED:20260421T113728Z
UID:8561-1778520600-1778527800@www.colorcoop.it
SUMMARY:Seminario: Parole che crescono
DESCRIPTION:Lo sviluppo del linguaggio nella fascia 0-3 anni\n\ncondotto da dott.ssa Nadia Pavan\, logopedista \n\nLunedì 11 maggio 2026 – 17:30-19:30\nPresso Asilo Nido “Girotondo”\, Romano d’Ezzelino \n\n\n\nIncontro per genitori ed educatori sul tema dello sviluppo del linguaggio nella fascia 0-3 anni. \nSi cercheranno di offrire strategie pratiche e semplici giochi da poter fare con il proprio bambino o bambina per accompagnare lo sviluppo del linguaggio nella quotidianità o perfezionare la pronuncia di alcuni fonemi. \n  \n\n\n\nPartecipazione gratuita su iscrizione. \nPer info: \nLaura: 340.2700174
URL:https://www.colorcoop.it/evento/seminario-sviluppo-del-linguaggio-0-3-anni/
LOCATION:Asilo Nido Comunale “Girotondo”\, Via Generale G. Giardino\, 105\, Romano d'Ezzelino\, VI\, 36060\, Italy
CATEGORIES:BIMBI,GENITORI,MAMME,NEOMAMME,PAPA'
ATTACH;FMTTYPE=image/jpeg:https://www.colorcoop.it/wp-content/uploads/2026/04/1000-GIORNI-DRG-115-1-e1776765307177.jpg
END:VEVENT
BEGIN:VEVENT
DTSTART;TZID=Europe/Rome:20260512T200000
DTEND;TZID=Europe/Rome:20260512T220000
DTSTAMP:20260421T223253
CREATED:20260421T100602Z
LAST-MODIFIED:20260421T112346Z
UID:8574-1778616000-1778623200@www.colorcoop.it
SUMMARY:È nato anche un papà
DESCRIPTION:Quando nasce un bambino\, nasce anche un papà\n\ncondotto da dott.ssa Flavia Riccio\, psicologa di Color Cooperativa \n\nMartedì 12 maggio 2026 – 20:00-22:00\nPresso Oasi del Tempo Libero\, Granella di Tezze sul Brenta \n\n\n\n\nDue incontri dedicati ai neopapà per dare spazio e voce all’ esperienza di paternità affrontando insieme anche temi specifici legati alla prima infanzia e al proprio ruolo genitoriale. \n\n\n\n  \n\nPartecipazione gratuita su iscrizione. \nPer info: \nLaura: 340.2700174
URL:https://www.colorcoop.it/evento/e-nato-anche-un-papa-2/
LOCATION:Centro Polivalente “Oasi del Tempo Libero” via Loss\, 17 – Granella di Tezze sul Brenta.
CATEGORIES:BIMBI,GENITORI,MAMME,NEOMAMME,PAPA'
ATTACH;FMTTYPE=image/jpeg:https://www.colorcoop.it/wp-content/uploads/2026/04/1000-GIORNI-DRG-115-2-e1776765417889.jpg
END:VEVENT
BEGIN:VEVENT
DTSTART;TZID=Europe/Rome:20260520T203000
DTEND;TZID=Europe/Rome:20260520T223000
DTSTAMP:20260421T223253
CREATED:20260421T101913Z
LAST-MODIFIED:20260421T112219Z
UID:8576-1779309000-1779316200@www.colorcoop.it
SUMMARY:Alimentazione al femminile
DESCRIPTION:ALIMENTAZIONE AL FEMMINILE\n\n\ncondotto da dott.ssa Erika Ganazzin\, dietista \n\nMercoledì 20 maggio 2026 – 20:30-22:00\nPresso Opificio di Marostica \n  \nAll’interno del grande calderone che è il tema dell’alimentazione\, la nutrizione nella donna riveste un ruolo molto particolare: la sua qualità determina il passaggio dall’età infantile\, alla pubertà\, la normalità del ciclo mestruale\, la fertilità e poi il passaggio ad una menopausa ed un’età avanzata con minori rischi di patologie cardiovascolari e metaboliche. \n\nÈ importante\, quindi\, che essa affronti ognuno di questi passaggi con l’attenzione alle peculiarità metaboliche e nutrizionali che lo caratterizzano affinché possa costruire una salute solida ed attuare una corretta prevenzione. \nUn incontro per approfondire e condividere un percorso alla scoperta del nostro benessere. \nIncontro gratuito su iscrizione \nInfo e iscrizioni: Laura 340.2700174
URL:https://www.colorcoop.it/evento/alimentazione-al-femminile/
LOCATION:Opificio Marostica\, Via IV Novembre\, 10\, Marostica\, VI\, 36063\, Italy
CATEGORIES:DONNE,MAMME,NEOMAMME
ATTACH;FMTTYPE=image/jpeg:https://www.colorcoop.it/wp-content/uploads/2026/04/1000-GIORNI-DRG-115-3-e1776766285736.jpg
ORGANIZER;CN="Color Cooperativa Sociale":MAILTO:info@colorcoop.it
END:VEVENT
END:VCALENDAR