BEGIN:VCALENDAR
VERSION:2.0
PRODID:-//www.colorcoop.it - ECPv6.15.20//NONSGML v1.0//EN
CALSCALE:GREGORIAN
METHOD:PUBLISH
X-ORIGINAL-URL:https://www.colorcoop.it
X-WR-CALDESC:Eventi per www.colorcoop.it
REFRESH-INTERVAL;VALUE=DURATION:PT1H
X-Robots-Tag:noindex
X-PUBLISHED-TTL:PT1H
BEGIN:VTIMEZONE
TZID:Europe/Rome
BEGIN:DAYLIGHT
TZOFFSETFROM:+0100
TZOFFSETTO:+0200
TZNAME:CEST
DTSTART:20240331T010000
END:DAYLIGHT
BEGIN:STANDARD
TZOFFSETFROM:+0200
TZOFFSETTO:+0100
TZNAME:CET
DTSTART:20241027T010000
END:STANDARD
BEGIN:DAYLIGHT
TZOFFSETFROM:+0100
TZOFFSETTO:+0200
TZNAME:CEST
DTSTART:20250330T010000
END:DAYLIGHT
BEGIN:STANDARD
TZOFFSETFROM:+0200
TZOFFSETTO:+0100
TZNAME:CET
DTSTART:20251026T010000
END:STANDARD
BEGIN:DAYLIGHT
TZOFFSETFROM:+0100
TZOFFSETTO:+0200
TZNAME:CEST
DTSTART:20260329T010000
END:DAYLIGHT
BEGIN:STANDARD
TZOFFSETFROM:+0200
TZOFFSETTO:+0100
TZNAME:CET
DTSTART:20261025T010000
END:STANDARD
END:VTIMEZONE
BEGIN:VEVENT
DTSTART;TZID=Europe/Rome:20250228T102000
DTEND;TZID=Europe/Rome:20250228T112000
DTSTAMP:20260422T031129
CREATED:20250121T084036Z
LAST-MODIFIED:20250311T114957Z
UID:7702-1740738000-1740741600@www.colorcoop.it
SUMMARY:UNA CULLA PER DUE – Yoga mamma bambino
DESCRIPTION:UNA CULLA PER DUE – YOGA MAMMA BAMBINO (0-12)\n\n\nModuli di 4 incontri – Conduce Erica\n \nVenerdì 28 febbraio\, 10.20 -11.20 ( 3^lezione) \nIncontri di yoga mamma-bambino per concedersi uno spazio/tempo di cura e morbidezza\, in cui stare a fermarsi\, muoversi e ascoltare il proprio corpo e respiro insieme al proprio bambino. \n\n\n“Fermarsi e ascoltare il battito delle cose\, sentire il silenzio\, le sue sfumature. Fermarsi è una grande arte.”\nChandra Livia Candiani \n\n\nInfo prenotazioni: Laura 340.2700174
URL:https://www.colorcoop.it/evento/una-culla-per-due-yoga-mamma-bambino-20/
LOCATION:Via Margnan\, Bassano del Grappa. ( vicino prato S.Caterina -Parco ragazzi del 99)
CATEGORIES:BIMBI,MAMME,NEOMAMME
ATTACH;FMTTYPE=image/jpeg:https://www.colorcoop.it/wp-content/uploads/2023/11/NEO-MAMME-YOGA.jpg
END:VEVENT
BEGIN:VEVENT
DTSTART;TZID=Europe/Rome:20250221T102000
DTEND;TZID=Europe/Rome:20250221T112000
DTSTAMP:20260422T031129
CREATED:20250121T083927Z
LAST-MODIFIED:20250311T114805Z
UID:7700-1740133200-1740136800@www.colorcoop.it
SUMMARY:UNA CULLA PER DUE – Yoga mamma bambino
DESCRIPTION:UNA CULLA PER DUE – YOGA MAMMA BAMBINO (0-12)\n\n\nModuli di 4 incontri – Conduce Erica\n \nVenerdì 21 febbraio\, 10.20 -11.20 ( 2^lezione) \nIncontri di yoga mamma-bambino per concedersi uno spazio/tempo di cura e morbidezza\, in cui stare a fermarsi\, muoversi e ascoltare il proprio corpo e respiro insieme al proprio bambino. \n\n\n“Fermarsi e ascoltare il battito delle cose\, sentire il silenzio\, le sue sfumature. Fermarsi è una grande arte.”\nChandra Livia Candiani \n\n\nInfo prenotazioni: Laura 340.2700174
URL:https://www.colorcoop.it/evento/una-culla-per-due-yoga-mamma-bambino-19/
LOCATION:Via Margnan\, Bassano del Grappa. ( vicino prato S.Caterina -Parco ragazzi del 99)
CATEGORIES:BIMBI,MAMME,NEOMAMME
ATTACH;FMTTYPE=image/jpeg:https://www.colorcoop.it/wp-content/uploads/2023/11/NEO-MAMME-YOGA.jpg
END:VEVENT
BEGIN:VEVENT
DTSTART;TZID=Europe/Rome:20250215T090000
DTEND;TZID=Europe/Rome:20250215T123000
DTSTAMP:20260422T031129
CREATED:20241028T113428Z
LAST-MODIFIED:20250311T115151Z
UID:7255-1739610000-1739622600@www.colorcoop.it
SUMMARY:LABORATORIO: PAPPE A RICHIESTA
DESCRIPTION:PAPPE A RICHIESTA – NEOGENITORI (0-12)\n\n\n\n\n\n\n\n\n\n\nConduce Erica Ganazzin. \nSabato 15 febbraio 2025\, 09.00-12.30\nPresso “Scuola Infanzia Pio Baggio” Marchesane. \nCorso teorico-pratico che si propone di dare indicazioni e rispondere alle mille domande sia a chi vorrebbe indirizzarsi verso uno svezzamento più classico\, sia a chi invece preferisce pensare ad un auto svezzamento. Si può partecipare come singoli o in coppia. \n\n\n\n\nE’ possibile portare il vostro bambino.\nInfo e prenotazioni: Laura 340.2700174
URL:https://www.colorcoop.it/evento/laboratorio-pappe-a-richiesta-2/
LOCATION:Scuola dell’Infanzia Pio Baggio\, Piazzale del Donatore\, 5\, Marchesane - Bassano del Grappa
CATEGORIES:BIMBI,Cucina,CUCINA BIMBI,GENITORI,MAMME,NEOMAMME
ATTACH;FMTTYPE=image/jpeg:https://www.colorcoop.it/wp-content/uploads/2024/10/istockphoto-918682010-612x612-1.jpg
ORGANIZER;CN="Color Cooperativa Sociale":MAILTO:info@colorcoop.it
END:VEVENT
BEGIN:VEVENT
DTSTART;TZID=Europe/Rome:20250214T102000
DTEND;TZID=Europe/Rome:20250214T112000
DTSTAMP:20260422T031129
CREATED:20250121T083825Z
LAST-MODIFIED:20250311T114833Z
UID:7698-1739528400-1739532000@www.colorcoop.it
SUMMARY:UNA CULLA PER DUE – Yoga mamma bambino
DESCRIPTION:UNA CULLA PER DUE – YOGA MAMMA BAMBINO (0-12)\n\n\nModuli di 4 incontri – Conduce Erica\n \nVenerdì 14 febbraio\, 10.20 -11.20 ( 1^lezione) \nIncontri di yoga mamma-bambino per concedersi uno spazio/tempo di cura e morbidezza\, in cui stare a fermarsi\, muoversi e ascoltare il proprio corpo e respiro insieme al proprio bambino. \n\n\n“Fermarsi e ascoltare il battito delle cose\, sentire il silenzio\, le sue sfumature. Fermarsi è una grande arte.”\nChandra Livia Candiani \n\n\nInfo prenotazioni: Laura 340.2700174
URL:https://www.colorcoop.it/evento/una-culla-per-due-yoga-mamma-bambino-18/
LOCATION:Via Margnan\, Bassano del Grappa. ( vicino prato S.Caterina -Parco ragazzi del 99)
CATEGORIES:BIMBI,MAMME,NEOMAMME
ATTACH;FMTTYPE=image/jpeg:https://www.colorcoop.it/wp-content/uploads/2023/11/NEO-MAMME-YOGA.jpg
END:VEVENT
BEGIN:VEVENT
DTSTART;TZID=Europe/Rome:20250210T100000
DTEND;TZID=Europe/Rome:20250210T113000
DTSTAMP:20260422T031129
CREATED:20250121T085513Z
LAST-MODIFIED:20250128T085121Z
UID:7721-1739181600-1739187000@www.colorcoop.it
SUMMARY:PARLATTANDO
DESCRIPTION:PARLATTANDO \n\n\n\n\n\n\n\nUno spazio di condivisione per famiglie con figli 0-12 mesi. \nLunedì 10 febbraio Ore 10:00 – 11:30\nPresso “Centro Arcobaleno” Via S. Zenone 31\, Rossano Veneto  \n\n\n\n\n\n\n\n\n\n\n\n\n\nInfo e prenotazioni: Laura 340.270 0174
URL:https://www.colorcoop.it/evento/parlattando-8/
LOCATION:Centro Arcobaleno –  Rossano Veneto\, Via S. Zenone\, 31\, Rossano Veneto\, Vi\, 36028\, Italy
CATEGORIES:BIMBI,GENITORI,MAMME,NEOMAMME
ATTACH;FMTTYPE=image/jpeg:https://www.colorcoop.it/wp-content/uploads/2023/11/parlattndo-grafica-calendario.jpg
ORGANIZER;CN="Color Cooperativa Sociale":MAILTO:info@colorcoop.it
END:VEVENT
BEGIN:VEVENT
DTSTART;TZID=Europe/Rome:20250207T102000
DTEND;TZID=Europe/Rome:20250207T112000
DTSTAMP:20260422T031129
CREATED:20250108T095207Z
LAST-MODIFIED:20250311T114858Z
UID:7557-1738923600-1738927200@www.colorcoop.it
SUMMARY:UNA CULLA PER DUE – Yoga mamma bambino
DESCRIPTION:UNA CULLA PER DUE – YOGA MAMMA BAMBINO (0-12)\n\n\nModuli di 4 incontri – Conduce Erica Trevisan\n \nVenerdì 7 febbraio\, 10.20 -11.20 ( 4^lezione) \nIncontri di yoga mamma-bambino per concedersi uno spazio/tempo di cura e morbidezza\, in cui stare a fermarsi\, muoversi e ascoltare il proprio corpo e respiro insieme al proprio bambino. \n\n\n“Fermarsi e ascoltare il battito delle cose\, sentire il silenzio\, le sue sfumature. Fermarsi è una grande arte.”\nChandra Livia Candiani \n\n\nInfo prenotazioni: Laura 340.2700174
URL:https://www.colorcoop.it/evento/una-culla-per-due-yoga-mamma-bambino-15/
LOCATION:Via Margnan\, Bassano del Grappa. ( vicino prato S.Caterina -Parco ragazzi del 99)
CATEGORIES:BIMBI,MAMME,NEOMAMME
ATTACH;FMTTYPE=image/jpeg:https://www.colorcoop.it/wp-content/uploads/2023/11/NEO-MAMME-YOGA.jpg
END:VEVENT
BEGIN:VEVENT
DTSTART;TZID=Europe/Rome:20250131T102000
DTEND;TZID=Europe/Rome:20250131T112000
DTSTAMP:20260422T031129
CREATED:20250108T095545Z
LAST-MODIFIED:20250311T114924Z
UID:7562-1738318800-1738322400@www.colorcoop.it
SUMMARY:UNA CULLA PER DUE – Yoga mamma bambino
DESCRIPTION:UNA CULLA PER DUE – YOGA MAMMA BAMBINO (0-12)\n\n\nModuli di 4 incontri – Conduce Erica\n \nVenerdì 31 gennaio\, 10.20 -11.20 ( 3^lezione) \nIncontri di yoga mamma-bambino per concedersi uno spazio/tempo di cura e morbidezza\, in cui stare a fermarsi\, muoversi e ascoltare il proprio corpo e respiro insieme al proprio bambino. \n\n\n“Fermarsi e ascoltare il battito delle cose\, sentire il silenzio\, le sue sfumature. Fermarsi è una grande arte.”\nChandra Livia Candiani \n\n\nInfo prenotazioni: Laura 340.2700174
URL:https://www.colorcoop.it/evento/una-culla-per-due-yoga-mamma-bambino-13/
LOCATION:Via Margnan\, Bassano del Grappa. ( vicino prato S.Caterina -Parco ragazzi del 99)
CATEGORIES:BIMBI,MAMME,NEOMAMME
ATTACH;FMTTYPE=image/jpeg:https://www.colorcoop.it/wp-content/uploads/2023/11/NEO-MAMME-YOGA.jpg
END:VEVENT
BEGIN:VEVENT
DTSTART;TZID=Europe/Rome:20250124T102000
DTEND;TZID=Europe/Rome:20250124T112000
DTSTAMP:20260422T031129
CREATED:20250108T095239Z
LAST-MODIFIED:20250311T114747Z
UID:7558-1737714000-1737717600@www.colorcoop.it
SUMMARY:UNA CULLA PER DUE – Yoga mamma bambino
DESCRIPTION:UNA CULLA PER DUE – YOGA MAMMA BAMBINO (0-12)\n\n\nModuli di 4 incontri – Conduce Erica Trevisan \nVenerdì 24 gennaio\, 10.20 -11.20 ( 2^lezione) \nIncontri di yoga mamma-bambino per concedersi uno spazio/tempo di cura e morbidezza\, in cui stare a fermarsi\, muoversi e ascoltare il proprio corpo e respiro insieme al proprio bambino. \n\n\n“Fermarsi e ascoltare il battito delle cose\, sentire il silenzio\, le sue sfumature. Fermarsi è una grande arte.”\nChandra Livia Candiani \n\n\nInfo prenotazioni: Laura 340.2700174
URL:https://www.colorcoop.it/evento/una-culla-per-due-yoga-mamma-bambino-16/
LOCATION:Via Margnan\, Bassano del Grappa. ( vicino prato S.Caterina -Parco ragazzi del 99)
CATEGORIES:BIMBI,MAMME,NEOMAMME
ATTACH;FMTTYPE=image/jpeg:https://www.colorcoop.it/wp-content/uploads/2023/11/NEO-MAMME-YOGA.jpg
END:VEVENT
BEGIN:VEVENT
DTSTART;TZID=Europe/Rome:20250117T102000
DTEND;TZID=Europe/Rome:20250117T112000
DTSTAMP:20260422T031129
CREATED:20250108T104132Z
LAST-MODIFIED:20250311T114732Z
UID:7569-1737109200-1737112800@www.colorcoop.it
SUMMARY:UNA CULLA PER DUE – Yoga mamma bambino
DESCRIPTION:UNA CULLA PER DUE – YOGA MAMMA BAMBINO (0-12)\n\n\nModuli di 4 incontri – Conduce Erica\n \nVenerdì 17 gennaio\, 10.20 -11.20 ( 1^lezione) \nIncontri di yoga mamma-bambino per concedersi uno spazio/tempo di cura e morbidezza\, in cui stare a fermarsi\, muoversi e ascoltare il proprio corpo e respiro insieme al proprio bambino. \n\n\n“Fermarsi e ascoltare il battito delle cose\, sentire il silenzio\, le sue sfumature. Fermarsi è una grande arte.”\nChandra Livia Candiani \n\n\nInfo prenotazioni: Laura 340.2700174
URL:https://www.colorcoop.it/evento/una-culla-per-due-yoga-mamma-bambino-17/
LOCATION:Via Margnan\, Bassano del Grappa. ( vicino prato S.Caterina -Parco ragazzi del 99)
CATEGORIES:BIMBI,MAMME,NEOMAMME
ATTACH;FMTTYPE=image/jpeg:https://www.colorcoop.it/wp-content/uploads/2023/11/NEO-MAMME-YOGA.jpg
END:VEVENT
BEGIN:VEVENT
DTSTART;TZID=Europe/Rome:20250113T100000
DTEND;TZID=Europe/Rome:20250113T113000
DTSTAMP:20260422T031129
CREATED:20241011T134332Z
LAST-MODIFIED:20241011T134332Z
UID:7150-1736762400-1736767800@www.colorcoop.it
SUMMARY:Da due a noi 0-1 anno: sede Sala "A. Franceschetti" - Opificio di Marostica
DESCRIPTION:DA DUE A NOI\n“Ho bisogno di te” Come rispondere ai bisogni emotivi e di crescita dei bambini \nCondotto da Sabrina Lago\, psicologa dei Consultori Familiari Distretto 1 ULSS7. \nLUNEDI’ 13 GENNAIO\, ORE 10.00 \nPER INFO E ISCRIZIONI: LAURA – 340.2700174 – info@colorcoop.it
URL:https://www.colorcoop.it/evento/da-due-a-noi-0-1-anno-sede-sala-a-franceschetti-opificio-di-marostica-8/
LOCATION:Opificio di Marostica\, Via 4 Novembre\, 10 (Sala "A. Franceschetti" 2^ piano)\, Marostica\, Vicenza\, 36063\, Italy
CATEGORIES:MAMME,NEOMAMME
ATTACH;FMTTYPE=image/jpeg:https://www.colorcoop.it/wp-content/uploads/2023/11/da-due-anoi-garfica-sito.jpg
ORGANIZER;CN="Color Cooperativa Sociale":MAILTO:info@colorcoop.it
END:VEVENT
BEGIN:VEVENT
DTSTART;TZID=Europe/Rome:20250110T102000
DTEND;TZID=Europe/Rome:20250110T112000
DTSTAMP:20260422T031129
CREATED:20250108T094639Z
LAST-MODIFIED:20250311T114722Z
UID:7554-1736504400-1736508000@www.colorcoop.it
SUMMARY:UNA CULLA PER DUE – Yoga mamma bambino
DESCRIPTION:UNA CULLA PER DUE – YOGA MAMMA BAMBINO (0-12) \n\n\nModuli di 4 incontri – Conduce Erica Trevisan\n \nVenerdì 17 gennaio\, 10.20 -11.20 ( 4^lezione) \nIncontri di yoga mamma-bambino per concedersi uno spazio/tempo di cura e morbidezza\, in cui stare a fermarsi\, muoversi e ascoltare il proprio corpo e respiro insieme al proprio bambino. \n\n\n“Fermarsi e ascoltare il battito delle cose\, sentire il silenzio\, le sue sfumature. Fermarsi è una grande arte.”\nChandra Livia Candiani \n\n\nInfo prenotazioni: Laura 340.2700174
URL:https://www.colorcoop.it/evento/una-culla-per-due-yoga-mamma-bambino-14/
LOCATION:Via Margnan\, Bassano del Grappa. ( vicino prato S.Caterina -Parco ragazzi del 99)
CATEGORIES:BIMBI,MAMME,NEOMAMME
ATTACH;FMTTYPE=image/jpeg:https://www.colorcoop.it/wp-content/uploads/2023/11/NEO-MAMME-YOGA.jpg
END:VEVENT
BEGIN:VEVENT
DTSTART;TZID=Europe/Rome:20250108T143000
DTEND;TZID=Europe/Rome:20250108T160000
DTSTAMP:20260422T031129
CREATED:20241011T134100Z
LAST-MODIFIED:20241011T134100Z
UID:7142-1736346600-1736352000@www.colorcoop.it
SUMMARY:Da due a noi 0-1 anno: sede Sala "A. Franceschetti" - Opificio di Marostica
DESCRIPTION:DA DUE A NOI\nAlimentazione e allattamento nel primo anno di vita secondo le linee guida dell’OMS \nCondotto da Cristina Contini o Maria Vitaterna\, ostetriche dei Consultori Familiari Distretto 1 ULSS7. \n MERCOLEDI’ 08 GENNAIO\, ORE 14.30 \nPER INFO E ISCRIZIONI: LAURA – 340.2700174 – info@colorcoop.it
URL:https://www.colorcoop.it/evento/da-due-a-noi-0-1-anno-sede-sala-a-franceschetti-opificio-di-marostica-7/
LOCATION:Opificio di Marostica\, Via 4 Novembre\, 10 (Sala "A. Franceschetti" 2^ piano)\, Marostica\, Vicenza\, 36063\, Italy
CATEGORIES:MAMME,NEOMAMME
ATTACH;FMTTYPE=image/jpeg:https://www.colorcoop.it/wp-content/uploads/2023/11/da-due-anoi-garfica-sito.jpg
ORGANIZER;CN="Color Cooperativa Sociale":MAILTO:info@colorcoop.it
END:VEVENT
END:VCALENDAR