BEGIN:VCALENDAR
VERSION:2.0
PRODID:-//www.colorcoop.it - ECPv6.15.20//NONSGML v1.0//EN
CALSCALE:GREGORIAN
METHOD:PUBLISH
X-WR-CALNAME:www.colorcoop.it
X-ORIGINAL-URL:https://www.colorcoop.it
X-WR-CALDESC:Eventi per www.colorcoop.it
REFRESH-INTERVAL;VALUE=DURATION:PT1H
X-Robots-Tag:noindex
X-PUBLISHED-TTL:PT1H
BEGIN:VTIMEZONE
TZID:Europe/Rome
BEGIN:DAYLIGHT
TZOFFSETFROM:+0100
TZOFFSETTO:+0200
TZNAME:CEST
DTSTART:20230326T010000
END:DAYLIGHT
BEGIN:STANDARD
TZOFFSETFROM:+0200
TZOFFSETTO:+0100
TZNAME:CET
DTSTART:20231029T010000
END:STANDARD
BEGIN:DAYLIGHT
TZOFFSETFROM:+0100
TZOFFSETTO:+0200
TZNAME:CEST
DTSTART:20240331T010000
END:DAYLIGHT
BEGIN:STANDARD
TZOFFSETFROM:+0200
TZOFFSETTO:+0100
TZNAME:CET
DTSTART:20241027T010000
END:STANDARD
BEGIN:DAYLIGHT
TZOFFSETFROM:+0100
TZOFFSETTO:+0200
TZNAME:CEST
DTSTART:20250330T010000
END:DAYLIGHT
BEGIN:STANDARD
TZOFFSETFROM:+0200
TZOFFSETTO:+0100
TZNAME:CET
DTSTART:20251026T010000
END:STANDARD
BEGIN:DAYLIGHT
TZOFFSETFROM:+0100
TZOFFSETTO:+0200
TZNAME:CEST
DTSTART:20260329T010000
END:DAYLIGHT
BEGIN:STANDARD
TZOFFSETFROM:+0200
TZOFFSETTO:+0100
TZNAME:CET
DTSTART:20261025T010000
END:STANDARD
BEGIN:DAYLIGHT
TZOFFSETFROM:+0100
TZOFFSETTO:+0200
TZNAME:CEST
DTSTART:20270328T010000
END:DAYLIGHT
BEGIN:STANDARD
TZOFFSETFROM:+0200
TZOFFSETTO:+0100
TZNAME:CET
DTSTART:20271031T010000
END:STANDARD
END:VTIMEZONE
BEGIN:VEVENT
DTSTART;TZID=Europe/Rome:20240505T093000
DTEND;TZID=Europe/Rome:20240505T130000
DTSTAMP:20260421T130552
CREATED:20240212T084107Z
LAST-MODIFIED:20240423T094325Z
UID:6328-1714901400-1714914000@www.colorcoop.it
SUMMARY:1\,2\,3... TANA!
DESCRIPTION:1\,2\,3… TANA!\nFesta della creatività\n\n\n\n\n\n\n\nUno spazio di condivisione per famiglie con figli 1-3 anni. \n\n\n\n\n\n\n\n\n\n\n\n\n\nDomenica 5 maggio  2024 \nOre 09:30 in poi \nInfo e prenotazioni: Laura 340.270 0174
URL:https://www.colorcoop.it/evento/123-tana-festa-di-primavera/
LOCATION:Marchesane parco pubblico (vicino scuola materna)
CATEGORIES:BIMBI,GENITORI,MAMME,NEOMAMME,NONNI,PAPA'
ATTACH;FMTTYPE=image/jpeg:https://www.colorcoop.it/wp-content/uploads/2023/11/123-tana.jpg
ORGANIZER;CN="Color Cooperativa Sociale":MAILTO:info@colorcoop.it
END:VEVENT
BEGIN:VEVENT
DTSTART;TZID=Europe/Rome:20240505T100000
DTEND;TZID=Europe/Rome:20240505T130000
DTSTAMP:20260421T130552
CREATED:20240212T090050Z
LAST-MODIFIED:20240417T090703Z
UID:6343-1714903200-1714914000@www.colorcoop.it
SUMMARY:PARLATTANDO
DESCRIPTION:PARLATTANDO \nFesta della creatività\nUno spazio di condivisione per famiglie con figli 0-12 mesi.\n\n\n\n\n\n\n\nDomenica 5 maggio 2024 \n\n\n\n\n\n\n\n\n\n\n\n\n\nOre 9:30 in poi \nInfo e prenotazioni: Laura 340.270 0174
URL:https://www.colorcoop.it/evento/parlattando-5/
LOCATION:Marchesane parco pubblico (vicino scuola materna)
CATEGORIES:BIMBI,GENITORI,MAMME,NEOMAMME,NONNI,PAPA'
ATTACH;FMTTYPE=image/jpeg:https://www.colorcoop.it/wp-content/uploads/2023/11/parlattndo-grafica-calendario.jpg
ORGANIZER;CN="Color Cooperativa Sociale":MAILTO:info@colorcoop.it
END:VEVENT
BEGIN:VEVENT
DTSTART;TZID=Europe/Rome:20240520T193000
DTEND;TZID=Europe/Rome:20240520T210000
DTSTAMP:20260421T130552
CREATED:20240124T084530Z
LAST-MODIFIED:20240430T090118Z
UID:6311-1716233400-1716238800@www.colorcoop.it
SUMMARY:Da due a noi 1-3 anni... Incontri per papà
DESCRIPTION:INCONTRI PER PAPA’ 1-3 ANNI\nIncontri dedicati ai papà per condividere l’esperienza ed i vissuti legati alla paternità e al rapporto con i propri bambini. \nLUNEDI’ 20 GIUGNO ORE 19.30 \nLUNEDI’ 03  GIUGNOORE 19.30 \nPresso “Scuola dell’infanzia Pio Baggio Marchesane”  \nPER INFO E ISCRIZIONI: FLAVIA – 348.9193878 – info@colorcoop.it
URL:https://www.colorcoop.it/evento/da-due-a-noi-1-3-anni-incontri-per-papa-2/
LOCATION:Cooperativa “La Goccia” Via della Marina\, Tezze sul Brenta.
CATEGORIES:PAPA'
ATTACH;FMTTYPE=image/png:https://www.colorcoop.it/wp-content/uploads/2024/01/2.png
ORGANIZER;CN="Color Cooperativa Sociale":MAILTO:info@colorcoop.it
END:VEVENT
BEGIN:VEVENT
DTSTART;TZID=Europe/Rome:20240603T173000
DTEND;TZID=Europe/Rome:20240603T190000
DTSTAMP:20260421T130552
CREATED:20240529T093047Z
LAST-MODIFIED:20240530T070658Z
UID:6628-1717435800-1717441200@www.colorcoop.it
SUMMARY:1\,2\,3… TANA!
DESCRIPTION:1\,2\,3… TANA!\nUn pomeriggio con papà\n\n\n\n\n\n\n\nL’ evento prevede un passeggiata e un piccolo laboratorio esclusivamente con il papà. \n\n\n\n\n\n\n\n\n\n\n\n\n\nLunedì 03 giugno 2024 \nDalle ore 17:30 alle 19:00 \nInfo e prenotazioni (obbligatoria): Laura 340.270 0174
URL:https://www.colorcoop.it/evento/123-tana/
LOCATION:Scuola dell’Infanzia Pio Baggio\, Piazzale del Donatore\, 5\, Marchesane - Bassano del Grappa
CATEGORIES:BIMBI,GENITORI,PAPA'
ATTACH;FMTTYPE=image/jpeg:https://www.colorcoop.it/wp-content/uploads/2023/11/123-tana.jpg
ORGANIZER;CN="Color Cooperativa Sociale":MAILTO:info@colorcoop.it
END:VEVENT
BEGIN:VEVENT
DTSTART;TZID=Europe/Rome:20260505T200000
DTEND;TZID=Europe/Rome:20260505T220000
DTSTAMP:20260421T130552
CREATED:20260421T100114Z
LAST-MODIFIED:20260421T102316Z
UID:8569-1778011200-1778018400@www.colorcoop.it
SUMMARY:È nato anche un papà
DESCRIPTION:Quando nasce un bambino\, nasce anche un papà\n\ncondotto da dott.ssa Flavia Riccio\, psicologa di Color Cooperativa \n\nMartedì 05 maggio 2026 – 20:00-22:00\nPresso Oasi del Tempo Libero\, Granella di Tezze sul Brenta \n\n\n\n\nDue incontri dedicati ai neopapà per dare spazio e voce all’ esperienza di paternità affrontando insieme anche temi specifici legati alla prima infanzia e al proprio ruolo genitoriale. \n\n\n\n  \n\nPartecipazione gratuita su iscrizione. \nPer info: \nLaura: 340.2700174
URL:https://www.colorcoop.it/evento/e-nato-anche-un-papa/
LOCATION:Centro Polivalente “Oasi del Tempo Libero” via Loss\, 17 – Granella di Tezze sul Brenta.
CATEGORIES:BIMBI,GENITORI,MAMME,NEOMAMME,PAPA'
ATTACH;FMTTYPE=image/jpeg:https://www.colorcoop.it/wp-content/uploads/2026/04/1000-GIORNI-DRG-115-2-e1776765417889.jpg
END:VEVENT
BEGIN:VEVENT
DTSTART;TZID=Europe/Rome:20260511T173000
DTEND;TZID=Europe/Rome:20260511T193000
DTSTAMP:20260421T130552
CREATED:20260421T095327Z
LAST-MODIFIED:20260421T102437Z
UID:8561-1778520600-1778527800@www.colorcoop.it
SUMMARY:Seminario: Parole che crescono
DESCRIPTION:Lo sviluppo del linguaggio nella fascia 0-3 anni\n\ncondotto da dott.ssa Nadia Pavan\, logopedista \n\nLunedì 11 maggio 2026 – 17:30-19:30\nPresso Asilo Nido “Girotondo”\, Romano d’Ezzelino \n\n\n\nIncontro per genitori ed educatori sul tema dello sviluppo del linguaggio nella fascia 0-3 anni. \nSi cercheranno di offrire strategie pratiche e semplici giochi da poter fare con il proprio bambino o bambina per accompagnare lo sviluppo del linguaggio nella quotidianità o perfezionare la pronuncia di alcuni fonemi. \n  \n\n\n\nPartecipazione gratuita su iscrizione. \nPer info: \nLaura: 340.2700174
URL:https://www.colorcoop.it/evento/parole-che-crescono/
LOCATION:Asilo Nido Comunale “Girotondo”\, Via Generale G. Giardino\, 105\, Romano d'Ezzelino\, VI\, 36060\, Italy
CATEGORIES:BIMBI,GENITORI,MAMME,NEOMAMME,PAPA'
ATTACH;FMTTYPE=image/jpeg:https://www.colorcoop.it/wp-content/uploads/2026/04/1000-GIORNI-DRG-115-1-e1776765307177.jpg
END:VEVENT
BEGIN:VEVENT
DTSTART;TZID=Europe/Rome:20260512T200000
DTEND;TZID=Europe/Rome:20260512T220000
DTSTAMP:20260421T130552
CREATED:20260421T100602Z
LAST-MODIFIED:20260421T102238Z
UID:8574-1778616000-1778623200@www.colorcoop.it
SUMMARY:È nato anche un papà
DESCRIPTION:Quando nasce un bambino\, nasce anche un papà\n\ncondotto da dott.ssa Flavia Riccio\, psicologa di Color Cooperativa \n\nMartedì 12 maggio 2026 – 20:00-22:00\nPresso Oasi del Tempo Libero\, Granella di Tezze sul Brenta \n\n\n\n\nDue incontri dedicati ai neopapà per dare spazio e voce all’ esperienza di paternità affrontando insieme anche temi specifici legati alla prima infanzia e al proprio ruolo genitoriale. \n\n\n\n  \n\nPartecipazione gratuita su iscrizione. \nPer info: \nLaura: 340.2700174
URL:https://www.colorcoop.it/evento/e-nato-anche-un-papa-2/
LOCATION:Centro Polivalente “Oasi del Tempo Libero” via Loss\, 17 – Granella di Tezze sul Brenta.
CATEGORIES:BIMBI,GENITORI,MAMME,NEOMAMME,PAPA'
ATTACH;FMTTYPE=image/jpeg:https://www.colorcoop.it/wp-content/uploads/2026/04/1000-GIORNI-DRG-115-2-e1776765417889.jpg
END:VEVENT
END:VCALENDAR